BEGIN:VCALENDAR
VERSION:2.0
PRODID:-//Global Organization of African Academic Doctors (OAAD) - ECPv6.2.2//NONSGML v1.0//EN
CALSCALE:GREGORIAN
METHOD:PUBLISH
X-WR-CALNAME:Global Organization of African Academic Doctors (OAAD)
X-ORIGINAL-URL:https://africanacademicdoctors.org
X-WR-CALDESC:Events for Global Organization of African Academic Doctors (OAAD)
REFRESH-INTERVAL;VALUE=DURATION:PT1H
X-Robots-Tag:noindex
X-PUBLISHED-TTL:PT1H
BEGIN:VTIMEZONE
TZID:Africa/Lagos
BEGIN:STANDARD
TZOFFSETFROM:+0100
TZOFFSETTO:+0100
TZNAME:WAT
DTSTART:20220101T000000
END:STANDARD
END:VTIMEZONE
BEGIN:VEVENT
DTSTART;TZID=Africa/Lagos:20220918T080000
DTEND;TZID=Africa/Lagos:20220919T170000
DTSTAMP:20260423T002701
CREATED:20250621T073523Z
LAST-MODIFIED:20250621T073523Z
UID:4384-1663488000-1663606800@africanacademicdoctors.org
SUMMARY:Become a Professor in China & Climb the Ladder or Emigrate to the US without Leaving Home
DESCRIPTION:Date: September 18 & 19\, 2022\nTime: 8:00 PM (Beijing Time) / 8:00 AM (New York) / 1:00 PM (WAT)\nLocation: Zoom (Meeting ID: 822 2614 6812\, Passcode: OAAD)\nDescription: Unlock global academic and entrepreneurial pathways with this transformative OAAD Global Webinar Series. Featuring Houlda Fambo (Moderator\, OAAD)\, Oladipo Dayo George (PhD Scholar)\, Gertrude Onuoha Esq. (Immigration Expert)\, Oluwarotimi W. Samuel\, PhD (AI Professor)\, and Odii Elijah\, PhD (President\, OAAD)\, the event covers becoming a professor in China\, US immigration\, and SDG-focused innovation. Expect expert-led sessions\, success stories\, and Q&A to elevate your career. (Note: This is a recorded session available for review.)\nOrganizer: OAAD\nContact: info@oaadglobal.org
URL:https://africanacademicdoctors.org/event/become-a-professor-in-china-climb-the-ladder-or-emigrate-to-the-us-without-leaving-home/
CATEGORIES:Online
END:VEVENT
END:VCALENDAR