BEGIN:VCALENDAR
VERSION:2.0
PRODID:-//Global Organization of African Academic Doctors (OAAD) - ECPv6.2.2//NONSGML v1.0//EN
CALSCALE:GREGORIAN
METHOD:PUBLISH
X-WR-CALNAME:Global Organization of African Academic Doctors (OAAD)
X-ORIGINAL-URL:https://africanacademicdoctors.org
X-WR-CALDESC:Events for Global Organization of African Academic Doctors (OAAD)
REFRESH-INTERVAL;VALUE=DURATION:PT1H
X-Robots-Tag:noindex
X-PUBLISHED-TTL:PT1H
BEGIN:VTIMEZONE
TZID:Africa/Lagos
BEGIN:STANDARD
TZOFFSETFROM:+0100
TZOFFSETTO:+0100
TZNAME:WAT
DTSTART:20220101T000000
END:STANDARD
END:VTIMEZONE
BEGIN:VEVENT
DTSTART;TZID=Africa/Lagos:20220625T080000
DTEND;TZID=Africa/Lagos:20220625T170000
DTSTAMP:20260423T080414
CREATED:20250621T073121Z
LAST-MODIFIED:20250621T073121Z
UID:4382-1656144000-1656176400@africanacademicdoctors.org
SUMMARY:AFBA 2022 International Conference - Africa's Future Beyond Aid in the Context of AfCFTA
DESCRIPTION:Date: June 25\, 2022\nTime: 5:00 PM - 10:00 PM (BST) / 9:00 AM - 2:00 PM (GMT)\nLocation: Zoom (Meeting ID: 732 092 7978\, Passcode: 123456)\nDescription: Explore Africa’s future beyond aid with the AFBA 2022 International Conference\, hosted by the National Union of Ghana Students-China. Featuring Dr. Fareed Arthur (National AfCFTA Coordinator)\, H.E. Dr. Hammond (Ambassador of Ghana to China)\, and Odii Elijah\, PhD (Guest Speaker\, OAAD)\, this event includes research presentations\, panel discussions\, and speeches on the AfCFTA’s impact. Ideal for policymakers\, students\, and business leaders seeking to shape Africa’s economic landscape. (Note: This is a recorded session available for review.)\nOrganizer: National Union of Ghana Students-China
URL:https://africanacademicdoctors.org/event/afba-2022-international-conference-africas-future-beyond-aid-in-the-context-of-afcfta/
CATEGORIES:Online
END:VEVENT
END:VCALENDAR