BEGIN:VCALENDAR
VERSION:2.0
PRODID:-//Global Organization of African Academic Doctors (OAAD) - ECPv6.2.2//NONSGML v1.0//EN
CALSCALE:GREGORIAN
METHOD:PUBLISH
X-ORIGINAL-URL:https://africanacademicdoctors.org
X-WR-CALDESC:Events for Global Organization of African Academic Doctors (OAAD)
REFRESH-INTERVAL;VALUE=DURATION:PT1H
X-Robots-Tag:noindex
X-PUBLISHED-TTL:PT1H
BEGIN:VTIMEZONE
TZID:Africa/Lagos
BEGIN:STANDARD
TZOFFSETFROM:+0100
TZOFFSETTO:+0100
TZNAME:WAT
DTSTART:20220101T000000
END:STANDARD
END:VTIMEZONE
BEGIN:VEVENT
DTSTART;TZID=Africa/Lagos:20220618T080000
DTEND;TZID=Africa/Lagos:20220618T170000
DTSTAMP:20260423T061206
CREATED:20250622T053516Z
LAST-MODIFIED:20250622T053516Z
UID:4410-1655539200-1655571600@africanacademicdoctors.org
SUMMARY:Fathering Fathers - Fathers' Day Webinar
DESCRIPTION:Date: June 18\, 2022\nTime: 2:00 PM - 3:30 PM (Beijing Time)\nLocation: Zoom (ID: 832 0953 3559\, Passcode: EDN1)\nDescription: Celebrate Fathers' Day with a enriching webinar featuring insights on fathering from experts\, including Odii Elijah C.\, PhD\, alongside a thought-provoking discussion on the learning crisis impacting families today. The event will also include an engaging quiz hosted by Quizmaster Bob\, offering a fun and interactive experience\, as well as opportunities for attendees to share their own stories and connect with a supportive community.\nOrganizer: Everywhere Dads Network\, China
URL:https://africanacademicdoctors.org/event/fathering-fathers-fathers-day-webinar/
CATEGORIES:Online
END:VEVENT
END:VCALENDAR