BEGIN:VCALENDAR
VERSION:2.0
PRODID:-//Global Organization of African Academic Doctors (OAAD) - ECPv6.2.2//NONSGML v1.0//EN
CALSCALE:GREGORIAN
METHOD:PUBLISH
X-ORIGINAL-URL:https://africanacademicdoctors.org
X-WR-CALDESC:Events for Global Organization of African Academic Doctors (OAAD)
REFRESH-INTERVAL;VALUE=DURATION:PT1H
X-Robots-Tag:noindex
X-PUBLISHED-TTL:PT1H
BEGIN:VTIMEZONE
TZID:Africa/Lagos
BEGIN:STANDARD
TZOFFSETFROM:+0100
TZOFFSETTO:+0100
TZNAME:WAT
DTSTART:20220101T000000
END:STANDARD
END:VTIMEZONE
BEGIN:VEVENT
DTSTART;TZID=Africa/Lagos:20220611T080000
DTEND;TZID=Africa/Lagos:20220611T170000
DTSTAMP:20260423T061206
CREATED:20250621T105222Z
LAST-MODIFIED:20250621T105222Z
UID:4397-1654934400-1654966800@africanacademicdoctors.org
SUMMARY:Global Grand Challenges and Youth Entrepreneurial Initiatives
DESCRIPTION:Date: June 11\, 2022\nTime: 2:00 PM - 4:00 PM\nLocation: Zoom\nDescription: Join us for an insightful and engaging session with speaker Odii Elijah C.\, United Youth & Education Alliance Focal Person\, who will dive deep into the pressing global challenges facing today's youth and explore innovative entrepreneurial initiatives to address them. Special guest Odii Nwokeoma Eniola Salem will also contribute valuable perspectives\, sharing practical strategies and success stories to inspire young entrepreneurs. This event promises to be a dynamic platform for learning\, networking\, and collaboration.\nOrganizer: United Youth & Education Alliance\n\n \n 
URL:https://africanacademicdoctors.org/event/global-grand-challenges-and-youth-entrepreneurial-initiatives/
CATEGORIES:Online
END:VEVENT
END:VCALENDAR