BEGIN:VCALENDAR
VERSION:2.0
PRODID:-//Global Organization of African Academic Doctors (OAAD) - ECPv6.2.2//NONSGML v1.0//EN
CALSCALE:GREGORIAN
METHOD:PUBLISH
X-WR-CALNAME:Global Organization of African Academic Doctors (OAAD)
X-ORIGINAL-URL:https://africanacademicdoctors.org
X-WR-CALDESC:Events for Global Organization of African Academic Doctors (OAAD)
REFRESH-INTERVAL;VALUE=DURATION:PT1H
X-Robots-Tag:noindex
X-PUBLISHED-TTL:PT1H
BEGIN:VTIMEZONE
TZID:Africa/Lagos
BEGIN:STANDARD
TZOFFSETFROM:+0100
TZOFFSETTO:+0100
TZNAME:WAT
DTSTART:20210101T000000
END:STANDARD
END:VTIMEZONE
BEGIN:VEVENT
DTSTART;TZID=Africa/Lagos:20211023T140000
DTEND;TZID=Africa/Lagos:20211023T160000
DTSTAMP:20260424T174442
CREATED:20211017T024931Z
LAST-MODIFIED:20211017T024932Z
UID:2653-1634997600-1635004800@africanacademicdoctors.org
SUMMARY:Initiative De Conversion De Themes De Recherche En Produits & Services
DESCRIPTION:Au fil des ans\, de nombreuses personnes ont commencé à accepter l'éducation comme étant un processus qu'une personne traverse pour trouver un emploi\, gagner de l'argent\, prendre soin d'elle-même et de sa famille. La réalité d'un monde en évolution rapide nous dit que l'éducation telle que nous la connaissons aujourd'hui ne durera pas longtemps. Sa capacité à sécuriser l'emploi a été considérablement réduite et les personnes les plus instruites ne sont plus toujours les plus utiles dans la société d'aujourd'hui. \n\n\n\nRejoignez-nous pour suivre CURTIS KAKEU qui nous apporte des leçons pratiques de son expérience entrepreneuriale dans son entreprise qui avait commencé comme une recherche académique il y a plusieurs années.Pour plus de détails\, voir le flyer. \n\n\n\nLe Comité d'Organisation Conjoint (COC)
URL:https://africanacademicdoctors.org/event/initiative-de-conversion-de-themes-de-recherche-en-produits-services/
LOCATION:Zoom
CATEGORIES:Online
ATTACH;FMTTYPE=image/jpeg:https://africanacademicdoctors.org/wp-content/uploads/2021/10/Event_InitiativeDeConversion.jpeg
ORGANIZER;CN="OAAD":MAILTO:info@africanacademicdoctors.org
END:VEVENT
END:VCALENDAR