BEGIN:VCALENDAR
VERSION:2.0
PRODID:-//Global Organization of African Academic Doctors (OAAD) - ECPv6.2.2//NONSGML v1.0//EN
CALSCALE:GREGORIAN
METHOD:PUBLISH
X-WR-CALNAME:Global Organization of African Academic Doctors (OAAD)
X-ORIGINAL-URL:https://africanacademicdoctors.org
X-WR-CALDESC:Events for Global Organization of African Academic Doctors (OAAD)
REFRESH-INTERVAL;VALUE=DURATION:PT1H
X-Robots-Tag:noindex
X-PUBLISHED-TTL:PT1H
BEGIN:VTIMEZONE
TZID:Africa/Lagos
BEGIN:STANDARD
TZOFFSETFROM:+0100
TZOFFSETTO:+0100
TZNAME:WAT
DTSTART:20230101T000000
END:STANDARD
END:VTIMEZONE
BEGIN:VEVENT
DTSTART;TZID=Africa/Lagos:20230623T080000
DTEND;TZID=Africa/Lagos:20240503T170000
DTSTAMP:20260421T121217
CREATED:20250702T070851Z
LAST-MODIFIED:20250703T043912Z
UID:4538-1687507200-1714755600@africanacademicdoctors.org
SUMMARY:AFBA 2023/2024 & Academic Excellence Awards: Africa Future Beyond Aid in the Context of Looking Beyond Self-Esteem and an Independent Africa.
DESCRIPTION:Event Overview\nThe AFBA 2023 & Academic Excellence Awards\, organized by the National Union of Ghana Students - China\, is a virtual event celebrating academic achievement and fostering discussions on Africa's future beyond aid. Held on Zoom\, the event features Dr. John Pepra-Mensah\, a retired educationist\, as the guest speaker\, alongside panelists and special guests. Scheduled for June 23\, 2023\, it aims to inspire self-esteem and independence in Africa through academic excellence. \n\nKey Details\n\nDate: June 23\, 2023 and 3rd may 2024\nTime: 5:00 PM BJT\nVenue: Virtual (Zoom)\nMeeting ID: 2042543270\nPasscode: 111222\n\n\nOrganizers\n\nMain Organizer:\n\nNational Union of Ghana Students - China\n\n\n\n\nSpeakers and Panelists\n\nGuest Speaker: Dr. John Pepra-Mensah (Retired Educationist)\nSpecial Guests:\n\nHon. Dr. Winfred Nii Okai Hammond (Ambassador to P.R. China)\nDr. Elijah Odi (President\, Organization of African Academic Doctors)\nDr. Geoffrey Bentum-Micah\nHon. Samuel Nartey George (MP\, Ningo-Prampram)\n\n\nPanelists:\n\nDr. Adjeisah Michael\nDr. Sampson Agyapong Atuahene\nDr. Sarfo Isaac\n\n\n\n\nPurpose and Impact\nThe event explores Africa's future beyond aid\, emphasizing self-esteem\, independence\, and academic excellence. It provides a platform for dialogue among educators\, policymakers\, and students\, encouraging innovative solutions for sustainable development. \n\nAdditional Notes\nLive on Zoom with a live stream on YouTube ID: 111222. Scan the QR code to join the WeChat group for updates. Contact: @Nugschina\, nuggets-china.official_1\, or visit social media channels for more details.
URL:https://africanacademicdoctors.org/event/afba-2023-2024-academic-excellence-awards-africa-future-beyond-aid-in-the-context-of-looking-beyond-self-esteem-and-an-independent-africa/
CATEGORIES:Online
END:VEVENT
BEGIN:VEVENT
DTSTART;TZID=Africa/Lagos:20230721T080000
DTEND;TZID=Africa/Lagos:20230721T170000
DTSTAMP:20260421T121217
CREATED:20250621T070103Z
LAST-MODIFIED:20250621T070103Z
UID:4337-1689926400-1689958800@africanacademicdoctors.org
SUMMARY:Academic Webinar Series - Uncover the Vein of Mystery Patents
DESCRIPTION:Date: July 21\, 2023\nTime: 9:00 PM (Beijing Time) / 2:00 PM (West Africa Time)\nLocation: Zoom (Meeting ID: 8914 4251 559\, Passcode: 100100)\nDescription: Dive into the fascinating world of patents with this enlightening webinar from the NAAMCAR Academic Webinar Series. Led by Prof. Huan Hu (Deputy Director\, Zhejiang University)\, Prof. Wilfred Emori (President\, NAAMCAS)\, and Dr. Inime Udoh (Moderator\, University of Denmark)\, the session will unravel the history of patents\, explore various types (profitable\, interesting\, and even ridiculous)\, and discuss the process of filing a patent\, including personal startup experiences. Ideal for researchers\, inventors\, and students eager to navigate the patent landscape and turn ideas into protected innovations.\nOrganizer: Nigerian Alumni Association of the Institute of Metal Research (NAAMCAR) & OAAD
URL:https://africanacademicdoctors.org/event/academic-webinar-series-uncover-the-vein-of-mystery-patents/
CATEGORIES:Online
END:VEVENT
BEGIN:VEVENT
DTSTART;TZID=Africa/Lagos:20230730T080000
DTEND;TZID=Africa/Lagos:20230730T170000
DTSTAMP:20260421T121217
CREATED:20250621T072924Z
LAST-MODIFIED:20250621T102737Z
UID:4379-1690704000-1690736400@africanacademicdoctors.org
SUMMARY:Family Dilemmas
DESCRIPTION:Date: Thursday\, July 30\, 2023\nTime: 8:00 PM (Beijing Time) / 1:00 PM (Shanghai) / 8:00 AM (New York)\nLocation: Zoom (Meeting ID: 851 6864 7439\, Passcode: PMSMG)\nDescription: Navigate family challenges with this insightful webinar by World Family Forum and People-Made Solutions Group. Resource persons Prof. Boniface M. Mbah (Dean\, University of Nigeria)\, Stephen J. Rancourt (Venture Capitalist)\, and Dr. Yu Jie (Poverty Alleviation Expert) address critical topics: are the kids drowning in modern pressures\, travelling without leaving home\, and leveraging China’s best opportunities. Moderated by Ruth F. A. Gordon\, expect real-world strategies\, cultural perspectives\, and actionable advice for families globally. (Note: This is a recorded session available for review.)\nOrganizer: World Family Forum & People-Made Solutions Group Co. Ltd
URL:https://africanacademicdoctors.org/event/family-dilemmas-featuring-kids/
CATEGORIES:Online
END:VEVENT
END:VCALENDAR