BEGIN:VCALENDAR
VERSION:2.0
PRODID:-//Global Organization of African Academic Doctors (OAAD) - ECPv6.2.2//NONSGML v1.0//EN
CALSCALE:GREGORIAN
METHOD:PUBLISH
X-WR-CALNAME:Global Organization of African Academic Doctors (OAAD)
X-ORIGINAL-URL:https://africanacademicdoctors.org
X-WR-CALDESC:Events for Global Organization of African Academic Doctors (OAAD)
REFRESH-INTERVAL;VALUE=DURATION:PT1H
X-Robots-Tag:noindex
X-PUBLISHED-TTL:PT1H
BEGIN:VTIMEZONE
TZID:Africa/Lagos
BEGIN:STANDARD
TZOFFSETFROM:+0100
TZOFFSETTO:+0100
TZNAME:WAT
DTSTART:20230101T000000
END:STANDARD
END:VTIMEZONE
BEGIN:VEVENT
DTSTART;TZID=Africa/Lagos:20230415T080000
DTEND;TZID=Africa/Lagos:20230415T170000
DTSTAMP:20260421T210031
CREATED:20250621T071423Z
LAST-MODIFIED:20250621T071423Z
UID:4355-1681545600-1681578000@africanacademicdoctors.org
SUMMARY:Agribusiness and Money Ways Conference: Financial Independence Options from Your Research
DESCRIPTION:Date: Saturday\, April 15\, 2023\nTime: 7:00 PM (Beijing Time) / 7:00 AM (New York) / 11:00 AM (GMT)\nLocation: Zoom (Meeting ID: 839 5198 3362\, Passcode: 1111)\nDescription: Unlock the financial potential of your research with this transformative conference by OAAD Agricultural Research Group. Led by Kojo Ahiakpa\, PhD (Co-coordinator and Agribusiness Advisor)\, and moderated by Victoria A. Uyanga\, PhD (Associate Professor\, Shandong Agricultural University)\, the event dives into innovative ways to achieve financial independence. Highlighting the Authors’ Licensing and Collecting Society (ALCS)\, attendees will learn how to monetize publications\, explore licensing options\, and discover funding strategies. Perfect for researchers and academics aiming to turn their work into sustainable income streams. (Note: This is a recorded session available for review.)\nOrganizer: OAAD Agricultural Research Group\nContact: info@oaadglobal.org
URL:https://africanacademicdoctors.org/event/agribusiness-and-money-ways-conference-financial-independence-options-from-your-research-2/
CATEGORIES:Online
END:VEVENT
BEGIN:VEVENT
DTSTART;TZID=Africa/Lagos:20230415T080000
DTEND;TZID=Africa/Lagos:20230415T170000
DTSTAMP:20260421T210031
CREATED:20250622T062450Z
LAST-MODIFIED:20250622T062450Z
UID:4441-1681545600-1681578000@africanacademicdoctors.org
SUMMARY:AFBA 2023 & Academic Excellence Awards
DESCRIPTION:Date: April 15\, 2023\nTime: 1:00 PM - 5:00 PM BJT\nLocation: Zoom\nDescription: Join the National Union of Ghana Students - China for the AFBA 2023 & Academic Excellence Awards\, featuring Hon. Dr. Winfred Hammond Ni Okai\, Ambassador to P.R. China\, as the special guest. This event celebrates academic achievements and future leadership in the African context\, offering a platform for networking and recognition\, moderated by special guests.\nOrganizer: National Union of Ghana Students - China\nContact: [Scan QR code for Zoom link\, WhatsApp\, or WeChat details; Passcode: 110222]
URL:https://africanacademicdoctors.org/event/afba-2023-academic-excellence-awards/
CATEGORIES:Online
END:VEVENT
BEGIN:VEVENT
DTSTART;TZID=Africa/Lagos:20230422T080000
DTEND;TZID=Africa/Lagos:20230422T170000
DTSTAMP:20260421T210031
CREATED:20250621T072028Z
LAST-MODIFIED:20250621T072028Z
UID:4364-1682150400-1682182800@africanacademicdoctors.org
SUMMARY:UNIDO World Creativity and Innovation Day: UNIDO Global Call\, Sustainable Development Goals (SDGs)\, Innovation and Broad-Based Investment in Africa
DESCRIPTION:Date: April 22\, 2023\nTime: 8:00 PM (Beijing Time) / 1:00 PM (Lagos Time)\nLocation: Zoom (Meeting ID: 84351803534\, PWD: 1122)\nDescription: Join a global celebration of creativity and innovation with OAAD and Wasomi Charity Foundation’s conference marking UNIDO World Creativity and Innovation Day. Featuring esteemed guest speakers Amb. Ogu Chimezie (Consul General\, Shanghai)\, Engr. Adeniji Kolawolo (MD\, Niji Group)\, Prof. Oluferni Saibu (UNILAG-INQDS)\, Ms. Chinyere Leonard Tchuta (CEO\, Palm Healthy)\, and more\, this event explores sustainable development\, innovative solutions\, and investment opportunities in Africa. Moderated by Igbodiegwu Gloria C.\, expect thought-provoking discussions and networking with global leaders. (Note: This is a recorded session available for review.)\nOrganizer: OAAD & Wasomi Charity Foundation (WCF)\nContact: info@oaadglobal.org
URL:https://africanacademicdoctors.org/event/unido-world-creativity-and-innovation-day-unido-global-call-sustainable-development-goals-sdgs-innovation-and-broad-based-investment-in-africa/
CATEGORIES:Online
END:VEVENT
BEGIN:VEVENT
DTSTART;TZID=Africa/Lagos:20230423T080000
DTEND;TZID=Africa/Lagos:20230423T170000
DTSTAMP:20260421T210031
CREATED:20250621T070646Z
LAST-MODIFIED:20250621T070817Z
UID:4344-1682236800-1682269200@africanacademicdoctors.org
SUMMARY:Q2 Family Meeting: Harnessing Economic and Collaboration Opportunities
DESCRIPTION:Date: April 23\, 2023\nTime: 7:00 PM (Beijing Time) / 12:00 PM (New York Time)\nLocation: Zoom (Meeting ID: 857 2344 8133\, Passcode: 100100)\nDescription: Join this inspiring Q2 Family Meeting hosted by OAAD Global to harness economic and collaboration opportunities from China-Africa relations. Featuring Wang Yi (Director\, Hunan Institute of China-Africa Economic and Trade Cooperation) and moderated by Tabitha\, the session will spotlight top government-designated drivers\, discuss cross-border opportunities\, and address challenges faced by entrepreneurs and researchers in the over 1 billion-strong Chinese market. An unmissable event for those eager to engage globally and drive innovation.\nOrganizer: OAAD Global\nContact: info@oaadglobal.org
URL:https://africanacademicdoctors.org/event/q2-family-meeting-harnessing-economic-and-collaboration-opportunities/
CATEGORIES:Online
END:VEVENT
END:VCALENDAR