BEGIN:VCALENDAR
VERSION:2.0
PRODID:-//Global Organization of African Academic Doctors (OAAD) - ECPv6.2.2//NONSGML v1.0//EN
CALSCALE:GREGORIAN
METHOD:PUBLISH
X-ORIGINAL-URL:https://africanacademicdoctors.org
X-WR-CALDESC:Events for Global Organization of African Academic Doctors (OAAD)
REFRESH-INTERVAL;VALUE=DURATION:PT1H
X-Robots-Tag:noindex
X-PUBLISHED-TTL:PT1H
BEGIN:VTIMEZONE
TZID:Africa/Lagos
BEGIN:STANDARD
TZOFFSETFROM:+0100
TZOFFSETTO:+0100
TZNAME:WAT
DTSTART:20230101T000000
END:STANDARD
END:VTIMEZONE
BEGIN:VEVENT
DTSTART;TZID=Africa/Lagos:20230210T080000
DTEND;TZID=Africa/Lagos:20230211T170000
DTSTAMP:20260422T025736
CREATED:20250702T062210Z
LAST-MODIFIED:20250702T062210Z
UID:4481-1676016000-1676134800@africanacademicdoctors.org
SUMMARY:Asian-African Youth Conference 2023 - Innovating Social Media Influence for Sustainable Development in the Global South
DESCRIPTION:The Asian-African Youth Conference (AAYC) 2023 is set to inspire and innovate with its focus on leveraging social media for sustainable development. Featuring 16 distinguished invited speakers from across the globe\, the event will explore cutting-edge ideas and strategies. Highlights include Dr. Ir. Setiawan Wangsaatmadja\, Secretary of the State Government\, West Java Province\, and Madam Dorcas Adjeley Yobo\, Manager & Training Developer at the Global Platform\, Ghana Action-aid Ghana of the United Nations. The conference will be a platform for young leaders to collaborate and drive change. \nKey Information: \n\nDate: 10-11th February 2023\nTime: Not specified (online event)\nVenue: Via Online (Zoom)\nLink Zoom: bit.ly/AAYC-ITB-W2POINTS-FEBUB\nMeeting ID: 943 438 6017\nPasscode: 776351\nLive Streaming:\n\nhttps://www.youtube.com/@PolinesCampus\nhttps://www.facebook.com/kabar.polines\nhttps://twitter.com/InfoPolines\nhttps://www.instagram.com/polines_campus/\nhttps://polines.ac.id\n\n\nOrganized & Supported By: Multiple organizations including MKAA\, Bandung\, UNNES\, and Polines Campus\n\nOther Details:\nThe event will feature a diverse lineup of speakers\, including Prof. Wahyu Srigutomo\, Dean of Faculty of Mathematics and Natural Sciences at Institut Teknologi Bandung\, and Prof. Dr. Jonna Karla C. Bien\, Director of the Office of International Affairs Department of Psychology at Polytechnic University of the Philippines. Organized and supported by various academic and youth organizations\, this virtual conference aims to foster global south collaboration. \nJoin the conversation and be part of this transformative event!
URL:https://africanacademicdoctors.org/event/asian-african-youth-conference-2023-innovating-social-media-influence-for-sustainable-development-in-the-global-south/
CATEGORIES:Online
END:VEVENT
BEGIN:VEVENT
DTSTART;TZID=Africa/Lagos:20230212T080000
DTEND;TZID=Africa/Lagos:20230212T170000
DTSTAMP:20260422T025737
CREATED:20250621T071807Z
LAST-MODIFIED:20250621T071807Z
UID:4361-1676188800-1676221200@africanacademicdoctors.org
SUMMARY:Digital Transformation Strategy for Africa
DESCRIPTION:Date: February 12\, 2023\nTime: 1:00 PM - 3:00 PM (Beijing Time\, GMT+8)\nLocation: Tencent / Voov (Meeting ID: 381090764)\nDescription: Revolutionize Africa’s future with this cutting-edge webinar on “Digital Transformation Strategy for Africa\,” hosted by FAMES Benin and OAAD. Led by Prof. Kris Singh (Distinguished Visiting Professor\, Tsinghua University) and moderated by Houlda Fambo\, Claude Kiki\, and a dynamic team\, this session explores digital innovation\, policy frameworks\, and technology-driven growth strategies. Attendees will gain insights into scalable solutions\, case studies\, and actionable steps to drive digital inclusion across the continent. Ideal for policymakers\, technologists\, and entrepreneurs. (Note: This is a recorded session available for review.)\nOrganizer: FAMES Benin & OAAD
URL:https://africanacademicdoctors.org/event/digital-transformation-strategy-for-africa/
CATEGORIES:Online
END:VEVENT
BEGIN:VEVENT
DTSTART;TZID=Africa/Lagos:20230219T080000
DTEND;TZID=Africa/Lagos:20230219T170000
DTSTAMP:20260422T025737
CREATED:20250621T071239Z
LAST-MODIFIED:20250621T071239Z
UID:4348-1676793600-1676826000@africanacademicdoctors.org
SUMMARY:What We're Cooking for 2023 Q1 Family Meeting
DESCRIPTION:Date: Sunday\, February 19\, 2023\nTime: 7:00 PM (Beijing Time) / 7:00 AM (New York) / 12:00 PM (WAT)\nLocation: Zoom (Meeting ID: 894 4136 3703\, Passcode: Q1meeting)\nDescription: Step into an inspiring Q1 Family Meeting hosted by OAAD\, where we unveil exciting plans for 2023! Featuring Prof. Edmond Sanyangado (Assistant Professor\, Northumbria University) and Dr. Kojo Ahiakpa (Team Lead and Agribusiness Advisor\, Research Desk Consulting)\, this session offers practical guidance on new UK immigration opportunities\, career advancement\, and building or growing businesses using OAAD human capital resources. Moderated by Ruth F. A. Gordon and Gideon F. Boire\, expect interactive discussions\, success stories\, and actionable strategies to kickstart your year with confidence. (Note: This is a recorded session available for review.)\nOrganizer: Organization of African Academic Doctors (OAAD)\nContact: info@oaadglobal.org
URL:https://africanacademicdoctors.org/event/what-were-cooking-for-2023-q1-family-meeting/
CATEGORIES:Online
END:VEVENT
END:VCALENDAR