BEGIN:VCALENDAR
VERSION:2.0
PRODID:-//Global Organization of African Academic Doctors (OAAD) - ECPv6.2.2//NONSGML v1.0//EN
CALSCALE:GREGORIAN
METHOD:PUBLISH
X-ORIGINAL-URL:https://africanacademicdoctors.org
X-WR-CALDESC:Events for Global Organization of African Academic Doctors (OAAD)
REFRESH-INTERVAL;VALUE=DURATION:PT1H
X-Robots-Tag:noindex
X-PUBLISHED-TTL:PT1H
BEGIN:VTIMEZONE
TZID:Africa/Lagos
BEGIN:STANDARD
TZOFFSETFROM:+0100
TZOFFSETTO:+0100
TZNAME:WAT
DTSTART:20220101T000000
END:STANDARD
END:VTIMEZONE
BEGIN:VEVENT
DTSTART;TZID=Africa/Lagos:20220519T080000
DTEND;TZID=Africa/Lagos:20220525T170000
DTSTAMP:20260423T100159
CREATED:20250702T065049Z
LAST-MODIFIED:20250702T065049Z
UID:4513-1652947200-1653498000@africanacademicdoctors.org
SUMMARY:Africa Day Annual International Conference on Precision Citizen Participation (PCP) 2022: Unveiling Opportunities for Private-Sector Citizens and Institutions under the AU "Africa We Want" Agenda 2063.
DESCRIPTION:Event Overview\nThe Africa Day Annual International Conference on Precision Citizen Participation (PCP) 2022 was a virtual event held from May 19 to May 25\, 2022\, focusing on fostering collaboration and unveiling opportunities for private-sector citizens and institutions. Hosted on Zoom\, the conference featured daily sessions from 8:00 AM to 5:00 PM across various time zones\, with the opening ceremony on May 19\, 2022\, at 12:00 PM GMT. Organized by TogetherPeople and the Organization of African Academic Doctors (OAAD)\, in collaboration with the Precision Citizen Participation Initiative (PCPI)\, the event aimed to align with the AU's Agenda 2063\, promoting sustainable development and citizen engagement. \n\nKey Details\n\nDates: May 19 - May 25\, 2022\nTime: 8:00 AM - 5:00 PM (various time zones: EAT\, GMT\, WAT\, SAST\, CAT\, Shanghai\, New York)\nVenue: Virtual (Zoom)\nMeeting IDs:\n\n879 8821 5080 (Days 1-6)\n885 5871 1132 (Opening Ceremony and other days)\n\n\nPasscodes:\n\n572403 (Days 1-6)\n605834 (Opening Ceremony and other days)\n\n\n\n\nOrganizers\n\nMain Organizers:\n\nTogetherPeople\nOrganization of African Academic Doctors (OAAD)\n\n\nSupporting Initiative:\n\nPrecision Citizen Participation Initiative (PCPI)\n\n\n\n\nSpeakers\n\nDay 1 (May 19\, Opening Ceremony):\n\nProf. Zakaria FF Hassan (Coordinator\, UN's Food and Agriculture Organization)\nDr. Mohammed A Ibrahim (Nigerian Young Academy)\nDr. Justine G Nzewunji\, PhD (Young Scientists\, Global Young Academy)\nAll Participants (Focus on soil productivity contributions)\n\n\nDay 4 (May 22):\n\nH.E. Amb. Chimezie O Ogu (Consul General\, Nigeria)\nAbiodun A Egbetokun\, PhD (Assistant Director\, National Centre for Technology)\nLt. Col. GKN Mensah-Yawson\, PhD (Ghana Armed Forces)\nMrs. Christiane B Adovelande (Founder\, Africa-Asia Solidarity)\n\n\nDay 5 (May 23):\n\nProf. OyeWale Tomori\, FAS\, NNOM\, NAM (Member\, WHO Advisory Group)\nProf. Isaac U Asuzu\, FAS (Snakebite and Envenoming)\nProf. Charles A Igwe\, FAS (Vice Chancellor\, University of Nigeria)\nElijah C. Odi\, PhD (President OAAD Global)\n\n\nDay 6 (May 24):\n\nH.E. Amb. Anderson N Madubike (High Commissioner\, Nigeria to Australia)\nLt. Col. Gordon KN Mensah-Yawson\, PhD (Ghana Armed Forces)\nProf. ShengXiong ZHANG\, PhD (Founder\, Shanghai Mingde Learning)\nMs. Manal Harrouche (The African Union Diaspora Directorate)\n\n\n\n\nPurpose and Impact\nThe conference aimed to unveil opportunities for private-sector citizens and institutions\, aligning with the AU "Africa We Want" Agenda 2063. It featured discussions on technology\, sustainability\, and citizen participation\, with speakers from diverse fields including academia\, government\, and international organizations. The event highlighted contributions to soil productivity\, climate-smart agriculture\, and global development\, fostering a platform for innovative solutions. \n\nAdditional Notes\nThe event included a diverse lineup of speakers from Nigeria\, Ethiopia\, Ghana\, Australia\, and China\, reflecting a global perspective. For further details\, contact info@africanacademicdoctors.org or president@africanacademicdoctors.org. Partners included the Nigerian Young Academy\, SMILO\, and various international organizations. \n    
URL:https://africanacademicdoctors.org/event/africa-day-annual-international-conference-on-precision-citizen-participation-pcp-2022-unveiling-opportunities-for-private-sector-citizens-and-institutions-under-the-au-africa-we-want-agenda-20/
CATEGORIES:Online
END:VEVENT
END:VCALENDAR