BEGIN:VCALENDAR
VERSION:2.0
PRODID:-//Global Organization of African Academic Doctors (OAAD) - ECPv6.2.2//NONSGML v1.0//EN
CALSCALE:GREGORIAN
METHOD:PUBLISH
X-ORIGINAL-URL:https://africanacademicdoctors.org
X-WR-CALDESC:Events for Global Organization of African Academic Doctors (OAAD)
REFRESH-INTERVAL;VALUE=DURATION:PT1H
X-Robots-Tag:noindex
X-PUBLISHED-TTL:PT1H
BEGIN:VTIMEZONE
TZID:Africa/Lagos
BEGIN:STANDARD
TZOFFSETFROM:+0100
TZOFFSETTO:+0100
TZNAME:WAT
DTSTART:20210101T000000
END:STANDARD
END:VTIMEZONE
BEGIN:VEVENT
DTSTART;TZID=Africa/Lagos:20210227T080000
DTEND;TZID=Africa/Lagos:20210227T170000
DTSTAMP:20260425T164347
CREATED:20250622T054940Z
LAST-MODIFIED:20250622T054940Z
UID:4428-1614412800-1614445200@africanacademicdoctors.org
SUMMARY:Interactive Session with the Profs: Experience-based Tips for African Students in China and Beyond (Part 2)
DESCRIPTION:Date: February 27\, 2021\nTime: 8:00 PM Beijing Time\nLocation: VooV/Tencent (ID: 4937000371\, Password: 878347)\nDescription: Featuring Prof. Edmond Sanganayado\, Prof. Samuel Oluwarotimi Williams\, and Prof. Ebenezer Atta Mills\, this interactive session moderated by Dr. Jackson Nkhon Nkhon\, OAAD VP Central Africa\, offers experience-based tips and strategies for African students' success in China and beyond.\nOrganizer: Organization of African Academic Doctors (OAAD)
URL:https://africanacademicdoctors.org/event/interactive-session-with-the-profs-experience-based-tips-for-african-students-in-china-and-beyond-part-2/
CATEGORIES:Online
END:VEVENT
BEGIN:VEVENT
DTSTART;TZID=Africa/Lagos:20210228T080000
DTEND;TZID=Africa/Lagos:20210228T170000
DTSTAMP:20260425T164347
CREATED:20250622T054800Z
LAST-MODIFIED:20250622T054800Z
UID:4426-1614499200-1614531600@africanacademicdoctors.org
SUMMARY:Conducting Meta-analysis: A Hands-on Training for Early Career Researchers
DESCRIPTION:Date: February 28\, 2021\nTime: 8:00 PM Beijing Time\nLocation: VooV/Tencent (ID: 4937000371\, Password: 878347)\nDescription: Hosted by the OAAD Agric Research Group\, this hands-on training led by resource person Erastus Mak-Mensah equips early career researchers with practical skills in conducting meta-analysis\, featuring interactive sessions and real-world applications.\nOrganizer: OAAD Agric Research Group
URL:https://africanacademicdoctors.org/event/conducting-meta-analysis-a-hands-on-training-for-early-career-researchers/
CATEGORIES:Online
END:VEVENT
END:VCALENDAR