BEGIN:VCALENDAR
VERSION:2.0
PRODID:-//Global Organization of African Academic Doctors (OAAD) - ECPv6.2.2//NONSGML v1.0//EN
CALSCALE:GREGORIAN
METHOD:PUBLISH
X-WR-CALNAME:Global Organization of African Academic Doctors (OAAD)
X-ORIGINAL-URL:https://africanacademicdoctors.org
X-WR-CALDESC:Events for Global Organization of African Academic Doctors (OAAD)
REFRESH-INTERVAL;VALUE=DURATION:PT1H
X-Robots-Tag:noindex
X-PUBLISHED-TTL:PT1H
BEGIN:VTIMEZONE
TZID:Africa/Lagos
BEGIN:STANDARD
TZOFFSETFROM:+0100
TZOFFSETTO:+0100
TZNAME:WAT
DTSTART:20210101T000000
END:STANDARD
END:VTIMEZONE
BEGIN:VEVENT
DTSTART;TZID=Africa/Lagos:20210924T090000
DTEND;TZID=Africa/Lagos:20210924T103000
DTSTAMP:20260421T104407
CREATED:20211017T011844Z
LAST-MODIFIED:20211017T012731Z
UID:2639-1632474000-1632479400@africanacademicdoctors.org
SUMMARY:Paper to Product Initiative
DESCRIPTION:Join us for the second session with Dr. Rubén Reif - University of Santiago de Compostel and third session with Adebola Omololu - GetFundedAfrica as we progress with the Paper to Product Initiative\, a platform designed for continued engagement for the transformation of research outputs into goods and/or services that benefit society and promote innovation.
URL:https://africanacademicdoctors.org/event/2639/
CATEGORIES:Hybrid,Offline,Online
ATTACH;FMTTYPE=image/jpeg:https://africanacademicdoctors.org/wp-content/uploads/2021/10/Event_PapertoProduct2.jpeg
ORGANIZER;CN="OAAD":MAILTO:info@africanacademicdoctors.org
END:VEVENT
END:VCALENDAR